BEGIN:VCALENDAR
PRODID:-//kirchenweb.ch gmbh//veranstaltungsausgabe v2.0//DE
VERSION:2.0
METHOD:PUBLISH
BEGIN:VEVENT
DTSTART:20260212T130000Z
DTEND:20260212T150000Z
LOCATION:auswärts\, \,
TRANSP:OPAQUE
SEQUENCE:0
UID:13349-veranstaltung@kirchesumiswald.ch
DTSTAMP:20251113T125222Z
DESCRIPTION:Die "Seniorenbühne Belp" spielt uns das Theater "Zäh Tag
  Freiheit". \n\nKontakt: katrin.locher@kirchesumiswald.ch\n\nWeitere
  Infos: https://www.kirchesumiswald.ch/veranstaltung/13349
SUMMARY:Seniorennachmittag mit Wasen\, Aula Oberstufenschulhaus Wasen
PRIORITY:5
X-MICROSOFT-CDO-IMPORTANCE:1
CLASS:PUBLIC
END:VEVENT
END:VCALENDAR
