BEGIN:VCALENDAR
PRODID:-//kirchenweb.ch gmbh//veranstaltungsausgabe v2.0//DE
VERSION:2.0
METHOD:PUBLISH
BEGIN:VEVENT
DTSTART:20260606T113000Z
DTEND:20260606T150000Z
LOCATION:auswärts\, \,
TRANSP:OPAQUE
SEQUENCE:0
UID:13361-veranstaltung@kirchesumiswald.ch
DTSTAMP:20251114T102033Z
DESCRIPTION:Kontakt: Simu 079 692 64 31\nwww.js-wasum.ch\n\nWeitere Infos:
  https://www.kirchesumiswald.ch/veranstaltung/13361
SUMMARY:Jungschi KiStü Wasen
PRIORITY:5
X-MICROSOFT-CDO-IMPORTANCE:1
CLASS:PUBLIC
END:VEVENT
END:VCALENDAR
