BEGIN:VCALENDAR
PRODID:-//kirchenweb.ch gmbh//veranstaltungsausgabe v2.0//DE
VERSION:2.0
METHOD:PUBLISH
BEGIN:VEVENT
DTSTART:20261202T130000Z
DTEND:20261202T150000Z
LOCATION:Foyer beim Saal Kirchgemeindehaus\, \,
TRANSP:OPAQUE
SEQUENCE:0
UID:13393-veranstaltung@kirchesumiswald.ch
DTSTAMP:20251127T132858Z
DESCRIPTION:Kontakt: katrin.locher@kirchesumiswald.ch\n\nWeitere Infos:
  https://www.kirchesumiswald.ch/veranstaltung/13393
SUMMARY:Lismerchränzli
PRIORITY:5
X-MICROSOFT-CDO-IMPORTANCE:1
CLASS:PUBLIC
END:VEVENT
END:VCALENDAR
