BEGIN:VCALENDAR
PRODID:-//kirchenweb.ch gmbh//veranstaltungsausgabe v2.0//DE
VERSION:2.0
METHOD:PUBLISH
BEGIN:VEVENT
DTSTART:20260624T073000Z
DTEND:20260624T090000Z
LOCATION:Saal 2. Stock Kirchgemeindehaus\, \,
TRANSP:OPAQUE
SEQUENCE:0
UID:13400-veranstaltung@kirchesumiswald.ch
DTSTAMP:20260114T083536Z
DESCRIPTION:Kontakt: Bettina Fux 034 422 33 69 / 078 667 70 26\n\nWeitere
  Infos: https://www.kirchesumiswald.ch/veranstaltung/13400
SUMMARY:Spatzenhöck
PRIORITY:5
X-MICROSOFT-CDO-IMPORTANCE:1
CLASS:PUBLIC
END:VEVENT
END:VCALENDAR
