BEGIN:VCALENDAR
PRODID:-//kirchenweb.ch gmbh//veranstaltungsausgabe v2.0//DE
VERSION:2.0
METHOD:PUBLISH
BEGIN:VEVENT
DTSTART:20261220T160000Z
DTEND:20261220T200000Z
LOCATION:Ref. Kirche\, \,
TRANSP:OPAQUE
SEQUENCE:0
UID:13570-veranstaltung@kirchesumiswald.ch
DTSTAMP:20260113T121146Z
DESCRIPTION:Kontakt: Hr. Marc Schneider\n\nWeitere Infos:
  https://www.kirchesumiswald.ch/veranstaltung/13570
SUMMARY:Adventskonzert Brass Band Emmental
PRIORITY:5
X-MICROSOFT-CDO-IMPORTANCE:1
CLASS:PUBLIC
END:VEVENT
END:VCALENDAR
