BEGIN:VCALENDAR
PRODID:-//kirchenweb.ch gmbh//veranstaltungsausgabe v2.0//DE
VERSION:2.0
METHOD:PUBLISH
BEGIN:VEVENT
DTSTART:20261203T183000Z
DTEND:20261203T190000Z
LOCATION:Ref. Kirche\, \,
TRANSP:OPAQUE
SEQUENCE:0
UID:13637-veranstaltung@kirchesumiswald.ch
DTSTAMP:20260115T121145Z
DESCRIPTION:Kontakt: Pfrn. Jasmin Steffen\n\nWeitere Infos:
  https://www.kirchesumiswald.ch/veranstaltung/13637
SUMMARY:Atempause 2026
PRIORITY:5
X-MICROSOFT-CDO-IMPORTANCE:1
CLASS:PUBLIC
END:VEVENT
END:VCALENDAR
