BEGIN:VCALENDAR
PRODID:-//kirchenweb.ch gmbh//veranstaltungsausgabe v2.0//DE
VERSION:2.0
METHOD:PUBLISH
BEGIN:VEVENT
DTSTART:20261206T160000Z
DTEND:20261206T180000Z
LOCATION:Ref. Kirche\, \,
TRANSP:OPAQUE
SEQUENCE:0
UID:13679-veranstaltung@kirchesumiswald.ch
DTSTAMP:20260216T165620Z
DESCRIPTION:Kontakt: katrin.locher@kirchesumiswald.ch\n\nWeitere Infos:
  https://www.kirchesumiswald.ch/veranstaltung/13679
SUMMARY:Adventskonzert Brass Band Posaunenchor Lützelflüh-Grünenmatt
PRIORITY:5
X-MICROSOFT-CDO-IMPORTANCE:1
CLASS:PUBLIC
END:VEVENT
END:VCALENDAR
