BEGIN:VCALENDAR
PRODID:-//kirchenweb.ch gmbh//veranstaltungsausgabe v2.0//DE
VERSION:2.0
METHOD:PUBLISH
BEGIN:VEVENT
DTSTART:20261010T113000Z
DTEND:20261010T150000Z
LOCATION:Saal 2. Stock Kirchgemeindehaus\, \,
TRANSP:OPAQUE
SEQUENCE:0
UID:13724-veranstaltung@kirchesumiswald.ch
DTSTAMP:20260409T095129Z
DESCRIPTION:Kontakt: Michèle Schüpbach \n\nWeitere Infos:
  https://www.kirchesumiswald.ch/veranstaltung/13724
SUMMARY:Kleidertausch Oktober 2026
PRIORITY:5
X-MICROSOFT-CDO-IMPORTANCE:1
CLASS:PUBLIC
END:VEVENT
END:VCALENDAR
