BEGIN:VCALENDAR
PRODID:-//kirchenweb.ch gmbh//veranstaltungsausgabe v2.0//DE
VERSION:2.0
METHOD:PUBLISH
BEGIN:VEVENT
DTSTART:22111224T160000Z
DTEND:22111224T170000Z
LOCATION:Ref. Kirche\, \,
TRANSP:OPAQUE
SEQUENCE:0
UID:2744-veranstaltung@kirchesumiswald.ch
DTSTAMP:20100815T221620Z
DESCRIPTION:Familienweihnachtsfeier\n\nKontakt:
  mirja.zimmermann@kirchesumiswald.ch\n\nWeitere Infos:
  https://www.kirchesumiswald.ch/veranstaltung/2744
SUMMARY:Familienweihnachtsfeier
PRIORITY:5
X-MICROSOFT-CDO-IMPORTANCE:1
CLASS:PUBLIC
END:VEVENT
END:VCALENDAR
