BEGIN:VCALENDAR
PRODID:-//kirchenweb.ch gmbh//veranstaltungsausgabe v2.0//DE
VERSION:2.0
METHOD:PUBLISH
BEGIN:VEVENT
DTSTART:20200527T113000Z
DTEND:20200527T133000Z
LOCATION:Unterweisungsraum\, \,
TRANSP:OPAQUE
SEQUENCE:0
UID:8841-veranstaltung@kirchesumiswald.ch
DTSTAMP:20191107T084543Z
DESCRIPTION:Kontakt: KUW-Mitarbeiterinnen:\nEsther Graf 034 402 36 47  /
  079 547 72 11\nAnja Schneeberger 078 753 78 65\nPfrn. Mirja Zimmermann\n
 \nWeitere Infos: https://www.kirchesumiswald.ch/veranstaltung/8841
SUMMARY:KUW1 Unterricht
PRIORITY:5
X-MICROSOFT-CDO-IMPORTANCE:1
CLASS:PUBLIC
END:VEVENT
END:VCALENDAR
