BEGIN:VCALENDAR
PRODID:-//kirchenweb.ch gmbh//veranstaltungsausgabe v2.0//DE
VERSION:2.0
METHOD:PUBLISH
BEGIN:VEVENT
DTSTART:20200603T113000Z
DTEND:20200603T133000Z
LOCATION:Unterweisungsraum\, \,
TRANSP:OPAQUE
SEQUENCE:0
UID:8842-veranstaltung@kirchesumiswald.ch
DTSTAMP:20191107T084526Z
DESCRIPTION:Kontakt: KUW-Mitarbeiterinnen:\nEsther Graf 034 402 36 47  /
  079 547 72 11\nAnja Schneeberger 078 753 78 65\nPfrn. Mirja Zimmermann\n
 \nWeitere Infos: https://www.kirchesumiswald.ch/veranstaltung/8842
SUMMARY:KUW1 Unterricht
PRIORITY:5
X-MICROSOFT-CDO-IMPORTANCE:1
CLASS:PUBLIC
END:VEVENT
END:VCALENDAR
