BEGIN:VCALENDAR
PRODID:-//kirchenweb.ch gmbh//veranstaltungsausgabe v2.0//DE
VERSION:2.0
METHOD:PUBLISH
BEGIN:VEVENT
DTSTART:20200122T123000Z
DTEND:20200122T143000Z
LOCATION:Unterweisungsraum\, \,
TRANSP:OPAQUE
SEQUENCE:0
UID:8847-veranstaltung@kirchesumiswald.ch
DTSTAMP:20191107T084129Z
DESCRIPTION:Kontakt: KUW-Mitarbeiterinnen:\nDoris Baumann 079 216 31 34
 \nAnja Schneeberger 078 753 78 65\n\nPfrn. Mirja Zimmermann\n\nWeitere
  Infos: https://www.kirchesumiswald.ch/veranstaltung/8847
SUMMARY:KUW2 - Unterricht
PRIORITY:5
X-MICROSOFT-CDO-IMPORTANCE:1
CLASS:PUBLIC
END:VEVENT
END:VCALENDAR
