BEGIN:VCALENDAR
PRODID:-//kirchenweb.ch gmbh//veranstaltungsausgabe v2.0//DE
VERSION:2.0
METHOD:PUBLISH
BEGIN:VEVENT
DTSTART:20200321T072000Z
DTEND:20200321T105000Z
LOCATION:Unterweisungsraum\, \,
TRANSP:OPAQUE
SEQUENCE:0
UID:8856-veranstaltung@kirchesumiswald.ch
DTSTAMP:20190813T074140Z
DESCRIPTION:Kontakt: KUW-Mitarbeiterinnen:\nEsther Graf 034 402 36 47 /
  079 547 72 11\nAnja Schneeberger 078 753 78 65\n\nPfrn. Mirja Zimmermann
 \n\nWeitere Infos: https://www.kirchesumiswald.ch/veranstaltung/8856
SUMMARY:KUW4 - Unterricht (Halbtag)
PRIORITY:5
X-MICROSOFT-CDO-IMPORTANCE:1
CLASS:PUBLIC
END:VEVENT
END:VCALENDAR
