BEGIN:VCALENDAR
PRODID:-//kirchenweb.ch gmbh//veranstaltungsausgabe v2.0//DE
VERSION:2.0
METHOD:PUBLISH
BEGIN:VEVENT
DTSTART:20200322T083000Z
DTEND:20200322T093000Z
LOCATION:Ref. Kirche\, \,
TRANSP:OPAQUE
SEQUENCE:0
UID:8857-veranstaltung@kirchesumiswald.ch
DTSTAMP:20190813T074215Z
DESCRIPTION:Kontakt: Pfrn. Mirja Zimmermann\, die KUW-SchülerInnen und
  die KUW-Mitarbeiterinnen Esther Graf und Anja Schneeberger\n\nWeitere
  Infos: https://www.kirchesumiswald.ch/veranstaltung/8857
SUMMARY:KUW4 - Gottesdienst mit Abendmahl
PRIORITY:5
X-MICROSOFT-CDO-IMPORTANCE:1
CLASS:PUBLIC
END:VEVENT
END:VCALENDAR
