BEGIN:VCALENDAR
PRODID:-//kirchenweb.ch gmbh//veranstaltungsausgabe v2.0//DE
VERSION:2.0
METHOD:PUBLISH
BEGIN:VEVENT
DTSTART:20200310T163000Z
DTEND:20200310T181500Z
LOCATION:Unterweisungsraum 1. Stock Kirchgemeindehaus\, \,
TRANSP:OPAQUE
SEQUENCE:0
UID:8872-veranstaltung@kirchesumiswald.ch
DTSTAMP:20190813T080429Z
DESCRIPTION:Zeit nach Ansage\n\nKontakt: Pfrn. Mirja Zimmermann\n\nWeitere
  Infos: https://www.kirchesumiswald.ch/veranstaltung/8872
SUMMARY:Konfirmandenunterricht
PRIORITY:5
X-MICROSOFT-CDO-IMPORTANCE:1
CLASS:PUBLIC
END:VEVENT
END:VCALENDAR
