BEGIN:VCALENDAR
PRODID:-//kirchenweb.ch gmbh//veranstaltungsausgabe v2.0//DE
VERSION:2.0
METHOD:PUBLISH
BEGIN:VEVENT
DTSTART:20200317T163000Z
DTEND:20200317T181500Z
LOCATION:Unterweisungsraum 1. Stock Kirchgemeindehaus\, \,
TRANSP:OPAQUE
SEQUENCE:0
UID:8873-veranstaltung@kirchesumiswald.ch
DTSTAMP:20190819T121749Z
DESCRIPTION:Zeit nach Ansage\n\nKontakt: Pfrn. Mirja Zimmermann\n\nWeitere
  Infos: https://www.kirchesumiswald.ch/veranstaltung/8873
SUMMARY:Konfirmandenunterricht
PRIORITY:5
X-MICROSOFT-CDO-IMPORTANCE:1
CLASS:PUBLIC
END:VEVENT
END:VCALENDAR
