BEGIN:VCALENDAR
PRODID:-//kirchenweb.ch gmbh//veranstaltungsausgabe v2.0//DE
VERSION:2.0
METHOD:PUBLISH
BEGIN:VEVENT
DTSTART:20200119T090000Z
DTEND:20200119T100000Z
LOCATION:Ref. Kirche\, \,
TRANSP:OPAQUE
SEQUENCE:0
UID:8902-veranstaltung@kirchesumiswald.ch
DTSTAMP:20190813T082609Z
DESCRIPTION:Ab 9.15 Uhr treffen wir uns zu Kaffee und Gipfeli in der
  Kirche\n\nKontakt: Pfrn. Mirja Zimmermann und das espresso-Team\n
 \nWeitere Infos: https://www.kirchesumiswald.ch/veranstaltung/8902
SUMMARY:espresso-Gottesdienst
PRIORITY:5
X-MICROSOFT-CDO-IMPORTANCE:1
CLASS:PUBLIC
END:VEVENT
END:VCALENDAR
