BEGIN:VCALENDAR
PRODID:-//kirchenweb.ch gmbh//veranstaltungsausgabe v2.0//DE
VERSION:2.0
METHOD:PUBLISH
BEGIN:VEVENT
DTSTART:20200126T083000Z
DTEND:20200126T093000Z
LOCATION:Ref. Kirche\, \,
TRANSP:OPAQUE
SEQUENCE:0
UID:8906-veranstaltung@kirchesumiswald.ch
DTSTAMP:20190813T082749Z
DESCRIPTION:Kontakt: KGR Eveline Rickli und Team Kirchensonntag\n\nWeitere
  Infos: https://www.kirchesumiswald.ch/veranstaltung/8906
SUMMARY:Kirchensonntag\, anschliessend Kirchenkaffee
PRIORITY:5
X-MICROSOFT-CDO-IMPORTANCE:1
CLASS:PUBLIC
END:VEVENT
END:VCALENDAR
