BEGIN:VCALENDAR
PRODID:-//kirchenweb.ch gmbh//veranstaltungsausgabe v2.0//DE
VERSION:2.0
METHOD:PUBLISH
BEGIN:VEVENT
DTSTART:20200223T130000Z
DTEND:20200223T140000Z
LOCATION:Schulhaus Schonegg\, \,
TRANSP:OPAQUE
SEQUENCE:0
UID:8907-veranstaltung@kirchesumiswald.ch
DTSTAMP:20190813T082914Z
DESCRIPTION:mit dem Jodlerklub Sumiswald-Grünen\n\nKontakt: Pfrn. Mirja
  Zimmermann\n\nWeitere Infos:
  https://www.kirchesumiswald.ch/veranstaltung/8907
SUMMARY:Gottesdienst im Schonegg-Schulhaus\, anschliessend Zvieri
PRIORITY:5
X-MICROSOFT-CDO-IMPORTANCE:1
CLASS:PUBLIC
END:VEVENT
END:VCALENDAR
