BEGIN:VCALENDAR
PRODID:-//kirchenweb.ch gmbh//veranstaltungsausgabe v2.0//DE
VERSION:2.0
METHOD:PUBLISH
BEGIN:VEVENT
DTSTART:20200226T130000Z
DTEND:20200226T150000Z
LOCATION:Cafeteria im Alterszentrum sumia\, \,
TRANSP:OPAQUE
SEQUENCE:0
UID:9056-veranstaltung@kirchesumiswald.ch
DTSTAMP:20191107T085259Z
DESCRIPTION:Kontakt: Emmeli Bärtschi\n034 431 27 01\n\nWeitere Infos:
  https://www.kirchesumiswald.ch/veranstaltung/9056
SUMMARY:Lismerchränzli
PRIORITY:5
X-MICROSOFT-CDO-IMPORTANCE:1
CLASS:PUBLIC
END:VEVENT
END:VCALENDAR
