BEGIN:VCALENDAR
PRODID:-//kirchenweb.ch gmbh//veranstaltungsausgabe v2.0//DE
VERSION:2.0
METHOD:PUBLISH
BEGIN:VEVENT
DTSTART:20200328T090000Z
DTEND:20200328T150000Z
LOCATION:Unterweisungsraum 1. Stock Kirchgemeindehaus\, \,
TRANSP:OPAQUE
SEQUENCE:0
UID:9205-veranstaltung@kirchesumiswald.ch
DTSTAMP:20200323T135341Z
DESCRIPTION:Abgesagt!!\n\nKontakt: Michèle Schüpbach\n\nWeitere Infos:
  https://www.kirchesumiswald.ch/veranstaltung/9205
SUMMARY:Kleidertausch
PRIORITY:5
X-MICROSOFT-CDO-IMPORTANCE:1
CLASS:PUBLIC
END:VEVENT
END:VCALENDAR
