BEGIN:VCALENDAR
PRODID:-//kirchenweb.ch gmbh//veranstaltungsausgabe v2.0//DE
VERSION:2.0
METHOD:PUBLISH
BEGIN:VEVENT
DTSTART:20200130T180000Z
DTEND:20200130T210000Z
LOCATION:Ref. Kirche Wasen i.E. \, \,
TRANSP:OPAQUE
SEQUENCE:0
UID:9237-veranstaltung@kirchesumiswald.ch
DTSTAMP:20200113T144523Z
DESCRIPTION:"Camino a la Paz"\nRegie: Francisco Varone\nArg/D/NL 2015\n
 \nInhaltsangaben zu den Filmen auf http://www.kirchewasen.ch\n\nKontakt:
  Pfr. Matthias Zehnder\, Wasen i.E.\, Pfrn. Jasmin Steffen\n\nWeitere
  Infos: https://www.kirchesumiswald.ch/veranstaltung/9237
SUMMARY:Kino in der Kirche
PRIORITY:5
X-MICROSOFT-CDO-IMPORTANCE:1
CLASS:PUBLIC
END:VEVENT
END:VCALENDAR
