BEGIN:VCALENDAR
PRODID:-//kirchenweb.ch gmbh//veranstaltungsausgabe v2.0//DE
VERSION:2.0
METHOD:PUBLISH
BEGIN:VEVENT
DTSTART:20200307T123000Z
DTEND:20200307T160000Z
LOCATION:KGH Sumiswald\, \,
TRANSP:OPAQUE
SEQUENCE:0
UID:9343-veranstaltung@kirchesumiswald.ch
DTSTAMP:20200213T195415Z
DESCRIPTION:Kontakt: jungschar.wasum@gmail.com\n\nWeitere Infos:
  https://www.kirchesumiswald.ch/veranstaltung/9343
SUMMARY:Jungschar WaSum\, Ort: KGH Sumiswald
PRIORITY:5
X-MICROSOFT-CDO-IMPORTANCE:1
CLASS:PUBLIC
END:VEVENT
END:VCALENDAR
