BEGIN:VCALENDAR
PRODID:-//kirchenweb.ch gmbh//veranstaltungsausgabe v2.0//DE
VERSION:2.0
METHOD:PUBLISH
BEGIN:VEVENT
DTSTART:20200321T123000Z
DTEND:20200321T160000Z
LOCATION:Jungschihütte Schaber\, \,
TRANSP:OPAQUE
SEQUENCE:0
UID:9344-veranstaltung@kirchesumiswald.ch
DTSTAMP:20200213T195504Z
DESCRIPTION:Kontakt: jungschar.wasum@gmail.com\n\nWeitere Infos:
  https://www.kirchesumiswald.ch/veranstaltung/9344
SUMMARY:Jungschar WaSum\, Ort: Jungschihütte Schaber
PRIORITY:5
X-MICROSOFT-CDO-IMPORTANCE:1
CLASS:PUBLIC
END:VEVENT
END:VCALENDAR
