BEGIN:VCALENDAR
PRODID:-//kirchenweb.ch gmbh//veranstaltungsausgabe v2.0//DE
VERSION:2.0
METHOD:PUBLISH
BEGIN:VEVENT
DTSTART:20200502T113000Z
DTEND:20200502T150000Z
LOCATION:Kirchenstübli Wasen\, \,
TRANSP:OPAQUE
SEQUENCE:0
UID:9345-veranstaltung@kirchesumiswald.ch
DTSTAMP:20200424T200219Z
DESCRIPTION:Kontakt: jungschar.wasum@gmail.com\n\nWeitere Infos:
  https://www.kirchesumiswald.ch/veranstaltung/9345
SUMMARY:Jungschar WaSum\, Ort: Kirchenstübli Wasen
PRIORITY:5
X-MICROSOFT-CDO-IMPORTANCE:1
CLASS:PUBLIC
END:VEVENT
END:VCALENDAR
