BEGIN:VCALENDAR
PRODID:-//kirchenweb.ch gmbh//veranstaltungsausgabe v2.0//DE
VERSION:2.0
METHOD:PUBLISH
BEGIN:VEVENT
DTSTART:20200325T083000Z
DTEND:20200325T100000Z
LOCATION:Saal 2. Stock Kirchgemeindehaus\, \,
TRANSP:OPAQUE
SEQUENCE:0
UID:9377-veranstaltung@kirchesumiswald.ch
DTSTAMP:20200323T135324Z
DESCRIPTION:Abgesagt!!\n\nKontakt: kurt.ryser@kirchesumiswald.ch\n
 \nWeitere Infos: https://www.kirchesumiswald.ch/veranstaltung/9377
SUMMARY:Spatzenhöck
PRIORITY:5
X-MICROSOFT-CDO-IMPORTANCE:1
CLASS:PUBLIC
END:VEVENT
END:VCALENDAR
