BEGIN:VCALENDAR
PRODID:-//kirchenweb.ch gmbh//veranstaltungsausgabe v2.0//DE
VERSION:2.0
METHOD:PUBLISH
BEGIN:VEVENT
DTSTART:20200611T180000Z
DTEND:20200611T200000Z
LOCATION:Foyer beim Saal Kirchgemeindehaus\, \,
TRANSP:OPAQUE
SEQUENCE:0
UID:9430-veranstaltung@kirchesumiswald.ch
DTSTAMP:20200606T110137Z
DESCRIPTION:Kontakt: kurt.ryser@kirchesumiswald.ch\n\nWeitere Infos:
  https://www.kirchesumiswald.ch/veranstaltung/9430
SUMMARY:Gemeindegebet
PRIORITY:5
X-MICROSOFT-CDO-IMPORTANCE:1
CLASS:PUBLIC
END:VEVENT
END:VCALENDAR
